{
 "currentVersion": 11.1,
 "serviceDescription": "Raster/Orto19IR",
 "name": "Raster/Orto19IR",
 "description": "",
 "extent": {
  "xmin": 80000.2322771633,
  "ymin": 6665999.942936342,
  "xmax": 182000.2322771633,
  "ymax": 6731999.942936342,
  "spatialReference": {
   "wkid": 102139,
   "latestWkid": 3067
  }
 },
 "initialExtent": {
  "xmin": 80000.2322771633,
  "ymin": 6665999.942936342,
  "xmax": 182000.2322771633,
  "ymax": 6731999.942936342,
  "spatialReference": {
   "wkid": 102139,
   "latestWkid": 3067
  }
 },
 "fullExtent": {
  "xmin": 80000.2322771633,
  "ymin": 6665999.942936342,
  "xmax": 182000.2322771633,
  "ymax": 6731999.942936342,
  "spatialReference": {
   "wkid": 102139,
   "latestWkid": 3067
  }
 },
 "sortableFields": "",
 "bandCount": 3,
 "pixelType": "U8",
 "minValues": [
  0,
  0,
  0
 ],
 "maxValues": [
  254,
  254,
  254
 ],
 "meanValues": [
  38.63897622691994,
  44.470154381331696,
  57.37155640074891
 ],
 "stdvValues": [
  51.15524347135267,
  45.35421989359796,
  44.132454025638694
 ],
 "hasMultidimensions": false,
 "pixelSizeX": 0.5,
 "pixelSizeY": 0.5,
 "datasetFormat": "SDR",
 "uncompressedSize": 80784000000,
 "blockWidth": 128,
 "blockHeight": 128,
 "compressionType": "LZ77",
 "bandNames": [
  "Band_1",
  "Band_2",
  "Band_3"
 ],
 "allowCopy": true,
 "allowAnalysis": true,
 "itemAccess": false,
 "minPixelSize": 0,
 "maxPixelSize": 0,
 "copyrightText": "",
 "serviceDataType": "esriImageServiceDataTypeRGB",
 "serviceSourceType": "esriImageServiceSourceTypeDataset",
 "objectIdField": "",
 "fields": [],
 "capabilities": "Mensuration,Image,Metadata",
 "defaultMosaicMethod": "Center",
 "allowedMosaicMethods": "",
 "sortField": "",
 "sortValue": null,
 "sortAscending": true,
 "mosaicOperator": "First",
 "defaultCompressionQuality": 75,
 "defaultResamplingMethod": "Bilinear",
 "maxImageHeight": 4100,
 "maxImageWidth": 15000,
 "allowRasterFunction": true,
 "rasterFunctionInfos": [
  {
   "name": "None",
   "description": "",
   "help": ""
  }
 ],
 "rasterTypeInfos": [
  {
   "name": "Raster Dataset",
   "description": "Supports all ArcGIS Raster Datasets",
   "help": ""
  }
 ],
 "mensurationCapabilities": "Basic",
 "hasHistograms": true,
 "hasColormap": false,
 "hasRasterAttributeTable": false,
 "minScale": 0,
 "maxScale": 0,
 "exportTilesAllowed": false,
 "supportsStatistics": false,
 "supportsAdvancedQueries": false,
 "editFieldsInfo": null,
 "ownershipBasedAccessControlForRasters": null,
 "allowComputeTiePoints": false,
 "useStandardizedQueries": true,
 "advancedQueryCapabilities": {
  "useStandardizedQueries": true,
  "supportsStatistics": false,
  "supportsOrderBy": false,
  "supportsDistinct": false,
  "supportsPagination": false
 },
 "spatialReference": {
  "wkid": 102139,
  "latestWkid": 3067
 }
}
