View In:
ArcGIS JavaScript
ArcGIS Online Map Viewer
ArcGIS Earth
Service Description: Raster/Orto19IR
Name: Raster/Orto19IR
Description:
Single Fused Map Cache: false
Extent:
XMin: 80000.2322771633
YMin: 6665999.942936342
XMax: 182000.2322771633
YMax: 6731999.942936342
Spatial Reference: 102139
(3067)
LatestVCSWkid(0)
Initial Extent:
XMin: 80000.2322771633
YMin: 6665999.942936342
XMax: 182000.2322771633
YMax: 6731999.942936342
Spatial Reference: 102139
(3067)
LatestVCSWkid(0)
Full Extent:
XMin: 80000.2322771633
YMin: 6665999.942936342
XMax: 182000.2322771633
YMax: 6731999.942936342
Spatial Reference: 102139
(3067)
LatestVCSWkid(0)
Pixel Size X: 0.5
Pixel Size Y: 0.5
Band Count: 3
Pixel Type: U8
RasterFunction Infos: {"rasterFunctionInfos": [{
"name": "None",
"description": "",
"help": ""
}]}
Mensuration Capabilities: Basic
Has Histograms: true
Has Colormap: false
Has Multi Dimensions : false
Rendering Rule:
Min Scale: 0
Max Scale: 0
Copyright Text:
Service Data Type: esriImageServiceDataTypeRGB
Min Values: 0, 0, 0
Max Values: 254, 254, 254
Mean Values: 38.63897622691994, 44.470154381331696, 57.37155640074891
Standard Deviation Values: 51.15524347135267, 45.35421989359796, 44.132454025638694
Object ID Field:
Fields:
None
Default Mosaic Method: Center
Allowed Mosaic Methods:
SortField:
SortValue: null
Mosaic Operator: First
Default Compression Quality: 75
Default Resampling Method: Bilinear
Max Record Count: null
Max Image Height: 4100
Max Image Width: 15000
Max Download Image Count: null
Max Mosaic Image Count: null
Allow Raster Function: true
Allow Copy: true
Allow Analysis: true
Allow Compute TiePoints: false
Supports Statistics: false
Supports Advanced Queries: false
Use StandardizedQueries: true
Raster Type Infos:
Name: Raster Dataset
Description: Supports all ArcGIS Raster Datasets
Help:
Has Raster Attribute Table: false
Edit Fields Info: null
Ownership Based AccessControl For Rasters: null
Child Resources:
Info
Histograms
Statistics
Key Properties
Legend
Raster Function Infos
Supported Operations:
Export Image
Identify
Measure
Compute Histograms
Compute Statistics Histograms
Get Samples
Compute Class Statistics
Query Boundary
Compute Pixel Location
Compute Angles
Validate
Project